BEGIN:VCALENDAR
VERSION:2.0
PRODID:-//Park and Recreation - Prince Georges County MD - ECPv6.15.18//NONSGML v1.0//EN
CALSCALE:GREGORIAN
METHOD:PUBLISH
X-WR-CALNAME:Park and Recreation - Prince Georges County MD
X-ORIGINAL-URL:https://youthsports.pgparks.com
X-WR-CALDESC:Events for Park and Recreation - Prince Georges County MD
REFRESH-INTERVAL;VALUE=DURATION:PT1H
X-Robots-Tag:noindex
X-PUBLISHED-TTL:PT1H
BEGIN:VTIMEZONE
TZID:America/New_York
BEGIN:DAYLIGHT
TZOFFSETFROM:-0500
TZOFFSETTO:-0400
TZNAME:EDT
DTSTART:20250309T070000
END:DAYLIGHT
BEGIN:STANDARD
TZOFFSETFROM:-0400
TZOFFSETTO:-0500
TZNAME:EST
DTSTART:20251102T060000
END:STANDARD
BEGIN:DAYLIGHT
TZOFFSETFROM:-0500
TZOFFSETTO:-0400
TZNAME:EDT
DTSTART:20260308T070000
END:DAYLIGHT
BEGIN:STANDARD
TZOFFSETFROM:-0400
TZOFFSETTO:-0500
TZNAME:EST
DTSTART:20261101T060000
END:STANDARD
BEGIN:DAYLIGHT
TZOFFSETFROM:-0500
TZOFFSETTO:-0400
TZNAME:EDT
DTSTART:20270314T070000
END:DAYLIGHT
BEGIN:STANDARD
TZOFFSETFROM:-0400
TZOFFSETTO:-0500
TZNAME:EST
DTSTART:20271107T060000
END:STANDARD
END:VTIMEZONE
BEGIN:VEVENT
DTSTART;TZID=America/New_York:20260618T170000
DTEND;TZID=America/New_York:20260618T200000
DTSTAMP:20260424T112919
CREATED:20260424T133510Z
LAST-MODIFIED:20260424T134353Z
UID:10003421-1781802000-1781812800@youthsports.pgparks.com
SUMMARY:Gather on the Green: Black Music Through Time
DESCRIPTION:Celebrate Black Music Month this June at Concord Historic Site! On June 18\, join us to celebrate Black Music Month on the green with headlining band Black History. \n\n\n\nFrom work songs to spirituals\, from blues to hip-hop\, the African American musical tradition has long been rooted in resistance\, serving as both soundtrack and catalyst for movements demanding freedom and justice. \n\n\n\nAs the United States approaches its semiquincentennial\, we reflect not only on 250 years of the nation’s history\, but on more than 400 years of Black life\, creativity\, and triumph on these shores.  \n\n\n\nThe June edition of Gather on the Green features a powerful program that uplifts the voices\, rhythms\, and stories that have shaped generations of Black life and cultural expression. \n\n\n\nThe Black History band evokes the West African storytelling tradition in a unique musical narrative style coined “griot soul.” \n\n\n\nJoin us as we celebrate this enduring lyrical legacy and move together toward a more just and liberatory future.    \n\n\n\nGather on the Green is a free summer concert series at Concord Historic Site that takes place the 3rd Thursday of each month.
URL:https://youthsports.pgparks.com/event_list/gather-on-the-green-black-music-through-time
CATEGORIES:250th Anniversary,All Ages,Black History,Free,History,Outdoor Performances
ATTACH;FMTTYPE=image/jpeg:https://youthsports.pgparks.com/wp-content/uploads/2026/04/Gather-on-the-Green-Black-Music-Through-Time-2026-600x400-1.jpg
END:VEVENT
BEGIN:VEVENT
DTSTART;TZID=America/New_York:20260625T160000
DTEND;TZID=America/New_York:20260625T173000
DTSTAMP:20260424T112919
CREATED:20260218T171502Z
LAST-MODIFIED:20260424T132147Z
UID:10001278-1782403200-1782408600@youthsports.pgparks.com
SUMMARY:Revolution\, Rebellion\, Treason: A Slice of History Discussion Series
DESCRIPTION:What are the differences between revolutions\, rebellions\, and acts of treason? Join the Surratt Historic Site & Museum as we take a long view of sparking change in American history\, beginning with the Declaration of Independence and concluding with our present day. Intended for our youngest and soon-to-be leaders\, this program will facilitate a shared understanding of what it means to be an engaged citizen in 2026 and beyond. \n\n\n\nThis event will be held at the Surratts-Clinton Branch of the Prince George’s County Memorial Library System
URL:https://youthsports.pgparks.com/event_list/revolution-rebellion-treason-a-slice-of-history-discussion-series
CATEGORIES:250th Anniversary,Black History,Free,History,Teens,Youth
ATTACH;FMTTYPE=image/jpeg:https://youthsports.pgparks.com/wp-content/uploads/2026/02/Revolution-rebellion-treason-2026-600x400-1.jpg
END:VEVENT
BEGIN:VEVENT
DTSTART;TZID=America/New_York:20260712T110000
DTEND;TZID=America/New_York:20260712T150000
DTSTAMP:20260424T112919
CREATED:20260218T164938Z
LAST-MODIFIED:20260220T144935Z
UID:10001269-1783854000-1783868400@youthsports.pgparks.com
SUMMARY:18th-Century Cooking Demos with the Kitchen Guild
DESCRIPTION:Join the Riversdale Kitchen Guild over the open hearth as they highlight recipes using 18th-century techniques.
URL:https://youthsports.pgparks.com/event_list/18th-century-cooking-demos-with-the-kitchen-guild
CATEGORIES:250th Anniversary,All Ages,Black History,Free,History,Lifestyle & Learning
ATTACH;FMTTYPE=image/jpeg:https://youthsports.pgparks.com/wp-content/uploads/2026/02/18th-Century-Cooking-Demos-2026-600x400-1.jpg
END:VEVENT
BEGIN:VEVENT
DTSTART;TZID=America/New_York:20260716T170000
DTEND;TZID=America/New_York:20260716T200000
DTSTAMP:20260424T112919
CREATED:20260424T134114Z
LAST-MODIFIED:20260424T134346Z
UID:10003422-1784221200-1784232000@youthsports.pgparks.com
SUMMARY:Gather on the Green: The Cookout
DESCRIPTION:You are invited to The Cookout! \n\n\n\nJoin us on the green in July at Concord Historic Site for Black joy\, celebration\, and gathering – set to the tune of classic cookout songs and line dances.  \n\n\n\nThis event is guaranteed fun for the whole family\, with spades\, games\, and a double dutch workshop led by the Bowie branch of the 40+ Double Dutch Club.  \n\n\n\nEnjoy an outdoor exhibit about the history of African American family reunions and experience the DMV’s hot new mobile party series\, Groove Haul!  \n\n\n\nCome to Concord to be in community\, celebrate Black history\, and have a good time!  \n\n\n\nGather on the Green is a free summer concert series at Concord Historic Site that takes place the 3rd Thursday of each month.
URL:https://youthsports.pgparks.com/event_list/gather-on-the-green-the-cookout
CATEGORIES:250th Anniversary,All Ages,Black History,Free,History,Outdoor Performances
ATTACH;FMTTYPE=image/jpeg:https://youthsports.pgparks.com/wp-content/uploads/2026/04/Gather-on-the-Green-The-Cookout-2026-600x400-1.jpg
END:VEVENT
BEGIN:VEVENT
DTSTART;TZID=America/New_York:20260820T170000
DTEND;TZID=America/New_York:20260820T200000
DTSTAMP:20260424T112919
CREATED:20260424T134506Z
LAST-MODIFIED:20260424T134518Z
UID:10003423-1787245200-1787256000@youthsports.pgparks.com
SUMMARY:Gather on the Green: Go-Go on the Green
DESCRIPTION:Happy 90th birthday to DMV legend Chuck Brown! For the final installment of Concord Historic Site’s Summer Concert Series\, in partnership with the Go-Go Museum & Café\, we’re turning up the volume in honor of go-go music: its pioneers\, its cultural power\, and its enduring heartbeat in the region. \n\n\n\nAs the defining sound of the DMV\, go-go continues to claim its well-deserved political and historical recognition\, marked by the founding of the Go-Go Museum & Café and the official designation of August 22 as “Chuck Brown Day” in Washington\, D.C.  \n\n\n\nJoin us for an electrifying evening of rhythm\, community\, and celebration featuring high-energy performances by New Impressions and Next Generation Krank! Come gather\, dance\, and pay tribute to the sound that keeps the DMV go-going.  \n\n\n\nGather on the Green is a free summer concert series at Concord Historic Site that takes place the 3rd Thursday of each month.
URL:https://youthsports.pgparks.com/event_list/gather-on-the-green-go-go-on-the-green
CATEGORIES:250th Anniversary,All Ages,Black History,Free,History,Outdoor Performances
ATTACH;FMTTYPE=image/jpeg:https://youthsports.pgparks.com/wp-content/uploads/2026/04/Gather-on-the-Green-Go-Go-on-the-Green-2026-600x400-1.jpg
END:VEVENT
BEGIN:VEVENT
DTSTART;TZID=America/New_York:20260910T190000
DTEND;TZID=America/New_York:20260910T200000
DTSTAMP:20260424T112919
CREATED:20260122T154611Z
LAST-MODIFIED:20260312T170320Z
UID:10001170-1789066800-1789070400@youthsports.pgparks.com
SUMMARY:Women’s Rights and the American Revolution by Dr. Richard Bell
DESCRIPTION:In the decade leading up to American independence\, white women took on crucial roles in a series of boycotts\, petitions\, and protests that allowed them to assert themselves as political actors as never before. The lecture examines the struggle to define white women’s place in politics\, voting\, and public leadership. Lecture with Question & Answer Session. To register\, call the museum.
URL:https://youthsports.pgparks.com/event_list/womens-rights-and-the-american-revolution-by-dr-richard-bell
CATEGORIES:250th Anniversary,Black History,Free,History,Literary,Virtual
ATTACH;FMTTYPE=image/png:https://youthsports.pgparks.com/wp-content/uploads/2026/01/Virtual-Lecture-1.png
END:VEVENT
BEGIN:VEVENT
DTSTART;TZID=America/New_York:20261008T190000
DTEND;TZID=America/New_York:20261008T200000
DTSTAMP:20260424T112919
CREATED:20260122T154942Z
LAST-MODIFIED:20260312T170419Z
UID:10001171-1791486000-1791489600@youthsports.pgparks.com
SUMMARY:Untold Stories of the American Revolution by Dr. Richard Bell
DESCRIPTION:Most people know something about the American Revolution and about the Founding Fathers. But the full story of the Revolution requires us to look beyond their lives and expand its cast of characters. This lecture examines four other revolutionary lives: an immigrant propagandist\, a female soldier\, a fugitive from slavery\, and the grieving widow who became the most important Native American leader during the war. Virtual lecture with Q&A session. To register\, call the museum.
URL:https://youthsports.pgparks.com/event_list/untold-stories-of-the-american-revolution-by-dr-richard-bell
CATEGORIES:250th Anniversary,Black History,Free,History,Literary,Virtual
ATTACH;FMTTYPE=image/png:https://youthsports.pgparks.com/wp-content/uploads/2026/01/Virtual-Lecture-1.png
END:VEVENT
END:VCALENDAR